Package: microSTASIS Version: 1.9.0 Command: /Library/Frameworks/R.framework/Resources/bin/R CMD INSTALL microSTASIS StartedAt: 2025-10-26 15:13:08 -0400 (Sun, 26 Oct 2025) EndedAt: 2025-10-26 15:13:09 -0400 (Sun, 26 Oct 2025) EllapsedTime: 1.6 seconds RetCode: 0 Status: OK