Package: microSTASIS Version: 1.9.0 Command: /Library/Frameworks/R.framework/Resources/bin/R CMD build --keep-empty-dirs --no-resave-data microSTASIS StartedAt: 2025-10-27 17:00:58 -0400 (Mon, 27 Oct 2025) EndedAt: 2025-10-27 17:01:41 -0400 (Mon, 27 Oct 2025) EllapsedTime: 43.5 seconds RetCode: 0 Status: OK PackageFile: microSTASIS_1.9.0.tar.gz PackageFileSize: 1.418 MiB