Package: microSTASIS Version: 1.9.0 Command: rm -rf microSTASIS.buildbin-libdir && mkdir microSTASIS.buildbin-libdir && /Users/biocbuild/BBS/utils/build-universal.sh microSTASIS_1.9.0.tar.gz /Library/Frameworks/R.framework/Resources/bin/R microSTASIS.buildbin-libdir StartedAt: 2025-10-26 22:41:11 -0400 (Sun, 26 Oct 2025) EndedAt: 2025-10-26 22:41:13 -0400 (Sun, 26 Oct 2025) EllapsedTime: 2.1 seconds RetCode: 0 Status: OK PackageFile: microSTASIS_1.9.0.tgz PackageFileSize: 1.458 MiB