Package: microSTASIS Version: 1.10.0 Maintainer: Pedro Sánchez-Sánchez MaintainerEmail: bio.pedro.technology at gmail.com git_url: https://git.bioconductor.org/packages/microSTASIS git_branch: RELEASE_3_22 git_last_commit: f0b0cd8 git_last_commit_date: 2025-10-29 11:20:08 -0500 (Wed, 29 Oct 2025)