Package: microRNA Version: 1.67.0 Command: /home/biocbuild/bbs-3.22-bioc/R/bin/R CMD INSTALL microRNA StartedAt: 2025-10-24 15:25:55 -0400 (Fri, 24 Oct 2025) EndedAt: 2025-10-24 15:26:05 -0400 (Fri, 24 Oct 2025) EllapsedTime: 10.0 seconds RetCode: 0 Status: OK