Package: microRNA Version: 1.67.0 Command: /home/biocbuild/bbs-3.22-bioc/R/bin/R CMD build --keep-empty-dirs --no-resave-data --md5 microRNA StartedAt: 2025-10-24 18:50:21 -0400 (Fri, 24 Oct 2025) EndedAt: 2025-10-24 18:50:25 -0400 (Fri, 24 Oct 2025) EllapsedTime: 4.0 seconds RetCode: 0 Status: OK PackageFile: microRNA_1.67.0.tar.gz PackageFileSize: 5.743 MiB