Package: microRNA Version: 1.67.0 Command: /Library/Frameworks/R.framework/Resources/bin/R CMD INSTALL microRNA StartedAt: 2025-10-24 15:10:40 -0400 (Fri, 24 Oct 2025) EndedAt: 2025-10-24 15:10:44 -0400 (Fri, 24 Oct 2025) EllapsedTime: 4.6 seconds RetCode: 0 Status: OK