Package: microRNA Version: 1.67.0 Command: rm -rf microRNA.buildbin-libdir && mkdir microRNA.buildbin-libdir && /Users/biocbuild/BBS/utils/build-universal.sh microRNA_1.67.0.tar.gz /Library/Frameworks/R.framework/Resources/bin/R microRNA.buildbin-libdir StartedAt: 2025-10-24 23:09:55 -0400 (Fri, 24 Oct 2025) EndedAt: 2025-10-24 23:10:00 -0400 (Fri, 24 Oct 2025) EllapsedTime: 5.1 seconds RetCode: 0 Status: OK PackageFile: microRNA_1.67.0.tgz PackageFileSize: 5.778 MiB