Package: miaViz Version: 1.18.0 Command: /home/biocbuild/bbs-3.22-bioc/R/bin/R CMD INSTALL miaViz StartedAt: 2025-11-17 18:15:02 -0500 (Mon, 17 Nov 2025) EndedAt: 2025-11-17 18:15:53 -0500 (Mon, 17 Nov 2025) EllapsedTime: 51.5 seconds RetCode: 0 Status: OK