Package: miaTime Version: 0.99.13 Command: /home/biocbuild/bbs-3.22-bioc/R/bin/R CMD build --keep-empty-dirs --no-resave-data --md5 miaTime StartedAt: 2025-10-27 18:40:26 -0400 (Mon, 27 Oct 2025) EndedAt: 2025-10-27 18:41:34 -0400 (Mon, 27 Oct 2025) EllapsedTime: 68.1 seconds RetCode: 0 Status: OK PackageFile: miaTime_0.99.13.tar.gz PackageFileSize: 6.33 MiB