Package: miaDash Version: 1.2.0 Command: /home/biocbuild/bbs-3.22-bioc/R/bin/R CMD INSTALL miaDash StartedAt: 2025-11-06 16:01:40 -0500 (Thu, 06 Nov 2025) EndedAt: 2025-11-06 16:02:25 -0500 (Thu, 06 Nov 2025) EllapsedTime: 44.6 seconds RetCode: 0 Status: OK