Package: miRspongeR Version: 2.14.0 Command: /home/biocbuild/bbs-3.22-bioc/R/bin/R CMD INSTALL miRspongeR StartedAt: 2025-11-02 16:03:05 -0500 (Sun, 02 Nov 2025) EndedAt: 2025-11-02 16:04:08 -0500 (Sun, 02 Nov 2025) EllapsedTime: 62.7 seconds RetCode: 0 Status: OK