Package: miRcomp Version: 1.39.1 Command: /home/biocbuild/bbs-3.22-bioc/R/bin/R CMD INSTALL miRcomp StartedAt: 2025-10-24 15:23:01 -0400 (Fri, 24 Oct 2025) EndedAt: 2025-10-24 15:23:05 -0400 (Fri, 24 Oct 2025) EllapsedTime: 3.5 seconds RetCode: 0 Status: OK