Package: miRSM Version: 2.6.0 Command: /home/biocbuild/bbs-3.22-bioc/R/bin/R CMD INSTALL miRSM StartedAt: 2025-11-14 15:51:48 -0500 (Fri, 14 Nov 2025) EndedAt: 2025-11-14 15:53:04 -0500 (Fri, 14 Nov 2025) EllapsedTime: 75.7 seconds RetCode: 0 Status: OK