Package: miRSM Version: 2.6.0 Command: /home/biocbuild/bbs-3.22-bioc/R/bin/R CMD build --keep-empty-dirs --no-resave-data --md5 miRSM StartedAt: 2025-11-14 18:47:34 -0500 (Fri, 14 Nov 2025) EndedAt: 2025-11-14 18:49:27 -0500 (Fri, 14 Nov 2025) EllapsedTime: 112.1 seconds RetCode: 0 Status: OK PackageFile: miRSM_2.6.0.tar.gz PackageFileSize: 4.884 MiB