Package: miRNAtap Version: 1.44.0 Command: /home/biocbuild/bbs-3.22-bioc/R/bin/R CMD INSTALL miRNAtap StartedAt: 2025-11-06 15:26:07 -0500 (Thu, 06 Nov 2025) EndedAt: 2025-11-06 15:26:20 -0500 (Thu, 06 Nov 2025) EllapsedTime: 13.0 seconds RetCode: 0 Status: OK