Package: miRLAB Version: 1.40.0 Command: /home/biocbuild/bbs-3.22-bioc/R/bin/R CMD build --keep-empty-dirs --no-resave-data --md5 miRLAB StartedAt: 2025-11-14 18:47:27 -0500 (Fri, 14 Nov 2025) EndedAt: 2025-11-14 18:48:06 -0500 (Fri, 14 Nov 2025) EllapsedTime: 38.0 seconds RetCode: 0 Status: OK PackageFile: miRLAB_1.40.0.tar.gz PackageFileSize: 193.7 KiB