Package: miQC Version: 1.17.0 Command: /home/biocbuild/bbs-3.22-bioc/R/bin/R CMD INSTALL miQC StartedAt: 2025-10-28 15:24:22 -0400 (Tue, 28 Oct 2025) EndedAt: 2025-10-28 15:24:47 -0400 (Tue, 28 Oct 2025) EllapsedTime: 25.1 seconds RetCode: 0 Status: OK