Package: miQC Version: 1.17.0 Command: /home/biocbuild/bbs-3.22-bioc/R/bin/R CMD build --keep-empty-dirs --no-resave-data --md5 miQC StartedAt: 2025-10-28 18:41:13 -0400 (Tue, 28 Oct 2025) EndedAt: 2025-10-28 18:42:28 -0400 (Tue, 28 Oct 2025) EllapsedTime: 75.1 seconds RetCode: 0 Status: OK PackageFile: miQC_1.17.0.tar.gz PackageFileSize: 2.827 MiB