Package: methylumi Version: 2.55.0 Command: /home/biocbuild/bbs-3.22-bioc/R/bin/R CMD INSTALL methylumi StartedAt: 2025-10-24 16:10:16 -0400 (Fri, 24 Oct 2025) EndedAt: 2025-10-24 16:11:14 -0400 (Fri, 24 Oct 2025) EllapsedTime: 58.8 seconds RetCode: 0 Status: OK