Package: methylumi Version: 2.55.0 Command: /Library/Frameworks/R.framework/Resources/bin/R CMD INSTALL methylumi StartedAt: 2025-10-24 15:34:27 -0400 (Fri, 24 Oct 2025) EndedAt: 2025-10-24 15:34:51 -0400 (Fri, 24 Oct 2025) EllapsedTime: 24.5 seconds RetCode: 0 Status: OK