Package: methylumi Version: 2.55.0 Command: /Library/Frameworks/R.framework/Resources/bin/R CMD build --keep-empty-dirs --no-resave-data methylumi StartedAt: 2025-10-24 17:00:52 -0400 (Fri, 24 Oct 2025) EndedAt: 2025-10-24 17:02:20 -0400 (Fri, 24 Oct 2025) EllapsedTime: 87.9 seconds RetCode: 0 Status: OK PackageFile: methylumi_2.55.0.tar.gz PackageFileSize: 7.345 MiB