Package: methylumi Version: 2.55.0 Command: rm -rf methylumi.buildbin-libdir && mkdir methylumi.buildbin-libdir && /Users/biocbuild/BBS/utils/build-universal.sh methylumi_2.55.0.tar.gz /Library/Frameworks/R.framework/Resources/bin/R methylumi.buildbin-libdir StartedAt: 2025-10-24 23:09:32 -0400 (Fri, 24 Oct 2025) EndedAt: 2025-10-24 23:09:59 -0400 (Fri, 24 Oct 2025) EllapsedTime: 26.5 seconds RetCode: 0 Status: OK PackageFile: methylumi_2.55.0.tgz PackageFileSize: 8.412 MiB