Package: methylclock Version: 1.15.0 Command: /home/biocbuild/bbs-3.22-bioc/R/bin/R CMD INSTALL methylclock StartedAt: 2025-10-24 16:00:30 -0400 (Fri, 24 Oct 2025) EndedAt: 2025-10-24 16:01:43 -0400 (Fri, 24 Oct 2025) EllapsedTime: 72.8 seconds RetCode: 0 Status: OK