Package: methylclock Version: 1.16.0 Command: /Library/Frameworks/R.framework/Resources/bin/R CMD INSTALL methylclock StartedAt: 2025-11-10 15:25:09 -0500 (Mon, 10 Nov 2025) EndedAt: 2025-11-10 15:25:36 -0500 (Mon, 10 Nov 2025) EllapsedTime: 27.5 seconds RetCode: 0 Status: OK