Package: methylclock Version: 1.16.0 Command: /Library/Frameworks/R.framework/Resources/bin/R CMD build --keep-empty-dirs --no-resave-data methylclock StartedAt: 2025-11-10 16:58:30 -0500 (Mon, 10 Nov 2025) EndedAt: 2025-11-10 17:03:26 -0500 (Mon, 10 Nov 2025) EllapsedTime: 296.4 seconds RetCode: 0 Status: OK PackageFile: methylclock_1.16.0.tar.gz PackageFileSize: 963.3 KiB