Package: methylSig Version: 1.22.0 Command: /home/biocbuild/bbs-3.22-bioc/R/bin/R CMD INSTALL methylSig StartedAt: 2025-11-17 17:47:18 -0500 (Mon, 17 Nov 2025) EndedAt: 2025-11-17 17:48:14 -0500 (Mon, 17 Nov 2025) EllapsedTime: 55.5 seconds RetCode: 0 Status: OK