Package: methylSig Version: 1.22.0 Command: /home/biocbuild/bbs-3.22-bioc/R/bin/R CMD build --keep-empty-dirs --no-resave-data --md5 methylSig StartedAt: 2025-11-17 22:00:26 -0500 (Mon, 17 Nov 2025) EndedAt: 2025-11-17 22:01:44 -0500 (Mon, 17 Nov 2025) EllapsedTime: 78.0 seconds RetCode: 0 Status: OK PackageFile: methylSig_1.22.0.tar.gz PackageFileSize: 489.7 KiB