Package: methylKit Version: 1.36.0 Command: /Library/Frameworks/R.framework/Resources/bin/R CMD INSTALL methylKit StartedAt: 2025-11-10 15:16:31 -0500 (Mon, 10 Nov 2025) EndedAt: 2025-11-10 15:16:53 -0500 (Mon, 10 Nov 2025) EllapsedTime: 22.1 seconds RetCode: 0 Status: OK