Package: methylKit Version: 1.36.0 Command: /Library/Frameworks/R.framework/Resources/bin/R CMD build --keep-empty-dirs --no-resave-data methylKit StartedAt: 2025-11-10 16:59:12 -0500 (Mon, 10 Nov 2025) EndedAt: 2025-11-10 16:59:52 -0500 (Mon, 10 Nov 2025) EllapsedTime: 39.4 seconds RetCode: 0 Status: OK PackageFile: methylKit_1.36.0.tar.gz PackageFileSize: 1.449 MiB