Package: methylInheritance Version: 1.33.1 Command: /home/biocbuild/R/R/bin/R CMD INSTALL methylInheritance StartedAt: 2025-10-23 20:50:11 -0000 (Thu, 23 Oct 2025) EndedAt: 2025-10-23 20:51:00 -0000 (Thu, 23 Oct 2025) EllapsedTime: 48.9 seconds RetCode: 0 Status: OK