Package: methylInheritance Version: 1.33.1 Command: /home/biocbuild/bbs-3.22-bioc/R/bin/R CMD INSTALL methylInheritance StartedAt: 2025-10-27 15:30:59 -0400 (Mon, 27 Oct 2025) EndedAt: 2025-10-27 15:31:39 -0400 (Mon, 27 Oct 2025) EllapsedTime: 40.2 seconds RetCode: 0 Status: OK