Package: methylInheritance Version: 1.33.1 Command: /home/biocbuild/bbs-3.22-bioc/R/bin/R CMD check --install=check:methylInheritance.install-out.txt --library=/home/biocbuild/bbs-3.22-bioc/R/site-library --timings methylInheritance_1.33.1.tar.gz StartedAt: 2025-10-28 01:22:39 -0400 (Tue, 28 Oct 2025) EndedAt: 2025-10-28 01:32:15 -0400 (Tue, 28 Oct 2025) EllapsedTime: 575.5 seconds RetCode: 0 Status: OK CheckDir: methylInheritance.Rcheck Warnings: 0