Package: methylInheritance Version: 1.33.1 Command: /home/biocbuild/bbs-3.22-bioc/R/bin/R CMD build --keep-empty-dirs --no-resave-data --md5 methylInheritance StartedAt: 2025-10-27 18:37:07 -0400 (Mon, 27 Oct 2025) EndedAt: 2025-10-27 18:38:31 -0400 (Mon, 27 Oct 2025) EllapsedTime: 84.0 seconds RetCode: 0 Status: OK PackageFile: methylInheritance_1.33.1.tar.gz PackageFileSize: 1.712 MiB