Package: methylInheritance Version: 1.33.1 Command: /Library/Frameworks/R.framework/Resources/bin/R CMD build --keep-empty-dirs --no-resave-data methylInheritance StartedAt: 2025-10-27 17:36:26 -0400 (Mon, 27 Oct 2025) EndedAt: 2025-10-27 17:37:55 -0400 (Mon, 27 Oct 2025) EllapsedTime: 89.1 seconds RetCode: 0 Status: OK PackageFile: methylInheritance_1.33.1.tar.gz PackageFileSize: 1.708 MiB