Package: methylInheritance Version: 1.34.0 Command: /Library/Frameworks/R.framework/Resources/bin/R CMD check --install=check:methylInheritance.install-out.txt --library=/Library/Frameworks/R.framework/Resources/library --no-vignettes --timings methylInheritance_1.34.0.tar.gz StartedAt: 2025-10-31 20:42:29 -0400 (Fri, 31 Oct 2025) EndedAt: 2025-10-31 20:45:31 -0400 (Fri, 31 Oct 2025) EllapsedTime: 182.0 seconds RetCode: 0 Status: OK CheckDir: methylInheritance.Rcheck Warnings: 0