Package: methylCC Version: 1.23.0 Command: /home/biocbuild/bbs-3.22-bioc/R/bin/R CMD INSTALL methylCC StartedAt: 2025-10-24 15:56:44 -0400 (Fri, 24 Oct 2025) EndedAt: 2025-10-24 15:57:34 -0400 (Fri, 24 Oct 2025) EllapsedTime: 49.3 seconds RetCode: 0 Status: OK