Package: methrix Version: 1.23.1 Command: /home/biocbuild/bbs-3.22-bioc/R/bin/R CMD INSTALL methrix StartedAt: 2025-10-24 15:46:36 -0400 (Fri, 24 Oct 2025) EndedAt: 2025-10-24 15:47:17 -0400 (Fri, 24 Oct 2025) EllapsedTime: 40.4 seconds RetCode: 0 Status: OK