Package: methrix Version: 1.23.1 Command: /home/biocbuild/bbs-3.22-bioc/R/bin/R CMD build --keep-empty-dirs --no-resave-data --md5 methrix StartedAt: 2025-10-24 18:44:40 -0400 (Fri, 24 Oct 2025) EndedAt: 2025-10-24 18:48:25 -0400 (Fri, 24 Oct 2025) EllapsedTime: 224.1 seconds RetCode: 0 Status: OK PackageFile: methrix_1.23.1.tar.gz PackageFileSize: 3.996 MiB