Package: methrix Version: 1.23.1 Command: /Library/Frameworks/R.framework/Resources/bin/R CMD INSTALL methrix StartedAt: 2025-10-24 15:38:59 -0400 (Fri, 24 Oct 2025) EndedAt: 2025-10-24 15:39:55 -0400 (Fri, 24 Oct 2025) EllapsedTime: 55.5 seconds RetCode: 0 Status: OK