Package: methrix Version: 1.23.1 Command: /Library/Frameworks/R.framework/Resources/bin/R CMD build --keep-empty-dirs --no-resave-data methrix StartedAt: 2025-10-24 17:44:15 -0400 (Fri, 24 Oct 2025) EndedAt: 2025-10-24 17:48:14 -0400 (Fri, 24 Oct 2025) EllapsedTime: 238.6 seconds RetCode: 0 Status: OK PackageFile: methrix_1.23.1.tar.gz PackageFileSize: 4.077 MiB