Package: methrix Version: 1.23.1 Command: /Library/Frameworks/R.framework/Resources/bin/R CMD INSTALL methrix StartedAt: 2025-10-27 15:18:07 -0400 (Mon, 27 Oct 2025) EndedAt: 2025-10-27 15:18:24 -0400 (Mon, 27 Oct 2025) EllapsedTime: 16.5 seconds RetCode: 0 Status: OK