Package: methodical Version: 1.5.4 Command: /home/biocbuild/bbs-3.22-bioc/R/bin/R CMD INSTALL methodical StartedAt: 2025-10-24 15:53:43 -0400 (Fri, 24 Oct 2025) EndedAt: 2025-10-24 15:54:25 -0400 (Fri, 24 Oct 2025) EllapsedTime: 41.8 seconds RetCode: 0 Status: OK