Package: methodical Version: 1.5.4 Command: /home/biocbuild/bbs-3.22-bioc/R/bin/R CMD build --keep-empty-dirs --no-resave-data --md5 methodical StartedAt: 2025-10-24 18:43:58 -0400 (Fri, 24 Oct 2025) EndedAt: 2025-10-24 18:44:55 -0400 (Fri, 24 Oct 2025) EllapsedTime: 57.0 seconds RetCode: 0 Status: OK PackageFile: methodical_1.5.4.tar.gz PackageFileSize: 5.016 MiB