Package: methodical Version: 1.5.4 Command: /Library/Frameworks/R.framework/Resources/bin/R CMD INSTALL methodical StartedAt: 2025-10-24 15:44:35 -0400 (Fri, 24 Oct 2025) EndedAt: 2025-10-24 15:45:32 -0400 (Fri, 24 Oct 2025) EllapsedTime: 57.0 seconds RetCode: 0 Status: OK