Package: methodical Version: 1.5.4 Command: /Library/Frameworks/R.framework/Resources/bin/R CMD build --keep-empty-dirs --no-resave-data methodical StartedAt: 2025-10-24 17:43:57 -0400 (Fri, 24 Oct 2025) EndedAt: 2025-10-24 17:45:03 -0400 (Fri, 24 Oct 2025) EllapsedTime: 66.2 seconds RetCode: 0 Status: OK PackageFile: methodical_1.5.4.tar.gz PackageFileSize: 5.013 MiB