Package: methodical Version: 1.5.4 Command: rm -rf methodical.buildbin-libdir && mkdir methodical.buildbin-libdir && /Users/biocbuild/BBS/utils/build-universal.sh methodical_1.5.4.tar.gz /Library/Frameworks/R.framework/Resources/bin/R methodical.buildbin-libdir StartedAt: 2025-10-25 01:48:58 -0400 (Sat, 25 Oct 2025) EndedAt: 2025-10-25 01:49:44 -0400 (Sat, 25 Oct 2025) EllapsedTime: 46.2 seconds RetCode: 0 Status: OK PackageFile: methodical_1.5.4.tgz PackageFileSize: 4.982 MiB