Package: methodical Version: 1.5.5 Command: /Library/Frameworks/R.framework/Resources/bin/R CMD INSTALL methodical StartedAt: 2025-10-27 15:22:04 -0400 (Mon, 27 Oct 2025) EndedAt: 2025-10-27 15:22:21 -0400 (Mon, 27 Oct 2025) EllapsedTime: 17.0 seconds RetCode: 0 Status: OK