Package: methodical Version: 1.5.4 Command: /Library/Frameworks/R.framework/Resources/bin/R CMD build --keep-empty-dirs --no-resave-data methodical StartedAt: 2025-10-26 17:09:18 -0400 (Sun, 26 Oct 2025) EndedAt: 2025-10-26 17:09:41 -0400 (Sun, 26 Oct 2025) EllapsedTime: 22.2 seconds RetCode: 0 Status: OK PackageFile: methodical_1.5.4.tar.gz PackageFileSize: 5.013 MiB