Package: methodical Version: 1.5.4 Command: rm -rf methodical.buildbin-libdir && mkdir methodical.buildbin-libdir && /Users/biocbuild/BBS/utils/build-universal.sh methodical_1.5.4.tar.gz /Library/Frameworks/R.framework/Resources/bin/R methodical.buildbin-libdir StartedAt: 2025-10-26 22:40:37 -0400 (Sun, 26 Oct 2025) EndedAt: 2025-10-26 22:40:50 -0400 (Sun, 26 Oct 2025) EllapsedTime: 13.2 seconds RetCode: 0 Status: OK PackageFile: methodical_1.5.4.tgz PackageFileSize: 4.984 MiB